BEGIN:VCALENDAR
VERSION:2.0
PRODID:-//wp-events-plugin.com//7.2.2.1//EN
TZID:Europe/Madrid
X-WR-TIMEZONE:Europe/Madrid
BEGIN:VEVENT
UID:111@veronoser.com
DTSTART;TZID=Europe/Madrid:20260425T180000
DTEND;TZID=Europe/Madrid:20260425T200000
DTSTAMP:20251113T193716Z
URL:https://veronoser.com/events/clausura-grupo-estudio-llave-maestra/
SUMMARY:Clausura Grupo Estudio Llave Maestra
DESCRIPTION:Clausura del grupo de estudio "El Sistema de la Llave Maestra".
 \n\nDurante 6 meses hemos profundizado en esta enseñanza\, y recorriendo 
 las profundidades de nuestra mente.\n\nEn esta sesión gratuita pondremos 
 fin a este espacio compartido.\n\nGracias a todos por vuestra participaci
 ón.
ATTACH;FMTTYPE=image/jpeg:https://veronoser.com/wp-content/uploads/2025/11
 /photo_2025-11-04_16-29-45.jpg
END:VEVENT
BEGIN:VTIMEZONE
TZID:Europe/Madrid
X-LIC-LOCATION:Europe/Madrid
BEGIN:DAYLIGHT
DTSTART:20260329T030000
TZOFFSETFROM:+0100
TZOFFSETTO:+0200
TZNAME:CEST
END:DAYLIGHT
END:VTIMEZONE
END:VCALENDAR