BEGIN:VCALENDAR
VERSION:2.0
PRODID:-//wp-events-plugin.com//7.2.2.1//EN
TZID:Europe/Madrid
X-WR-TIMEZONE:Europe/Madrid
BEGIN:VEVENT
UID:112@veronoser.com
DTSTART;TZID=Europe/Madrid:20260131T180000
DTEND;TZID=Europe/Madrid:20260131T200000
DTSTAMP:20260108T114307Z
URL:https://veronoser.com/events/sesion-seguimiento-haanel/
SUMMARY:Sesión Seguimiento Haanel
DESCRIPTION:SESIÓN DE VALORACIÓN Y SEGUIMIENTO\n\nHemos llegado casi a la
  mitad del libro\, y antes de seguir avanzando conviene detenernos un mome
 nto y mirar con honestidad desde dónde se está aplicando realmente la en
 señanza. A finales de enero haremos una sesión de seguimiento GRATUITA p
 ensando en quienes estáis recorriendo El Sistema de la Llave Maestra en e
 ste grupo.\n\nNo es una sesión de bienvenida sin más. Tampoco sustituye 
 al trabajo del grupo premium\, que sigue teniendo sus encuentros quincenal
 es.\n\nHaanel es muy claro en este libro: no sirve de nada seguir leyendo 
 si los principios no se están integrando en la práctica diaria. Y esa in
 tegración no siempre es evidente. A veces se lee\, se entiende intelectua
 lmente y\, sin embargo\, la mente sigue funcionando exactamente igual. O a
 parecen bloqueos\, resistencias\, dudas que no se expresan pero que condic
 ionan toda la experiencia\, cosas que se dan por hechas...\n\nEsta sesión
  es un espacio para revisar eso. Para observar cómo estás usando la ense
 ñanza hasta ahora\, qué dificultades están apareciendo\, qué se está 
 forzando innecesariamente y qué ajustes pueden hacerse antes de continuar
  con la segunda mitad del recorrido. No se trata de evaluar a nadie ni de 
 “hacerlo bien”\, sino de volver a alinear la práctica con el sentido 
 real del sistema para no desviarnos del camino.\n\nComo recordaréis ya hi
 cimos una sesión de bienvenida. Esta es diferente. Es una pausa conscient
 e en mitad del camino\, para no convertir la lectura en un trámite ni en 
 un ejercicio mental más. Si estás siguiendo el libro\, esta sesión pued
 e ayudarte a aclarar mucho más de lo que parece a simple vista. Al finali
 zar la sesión los asistentes recibirán un pdf adicional para autoevaluar
 se.\n\nDía: 31 de enero\nHora: 18\,00 (hora española)\nLugar: Zoom (pasa
 remos el link unos días antes)\n\nAcceso gratuito ❤️
ATTACH;FMTTYPE=image/jpeg:https://veronoser.com/wp-content/uploads/2026/01
 /ChatGPT-Image-4-ene-2026-19_19_43.png
END:VEVENT
BEGIN:VTIMEZONE
TZID:Europe/Madrid
X-LIC-LOCATION:Europe/Madrid
BEGIN:STANDARD
DTSTART:20251026T020000
TZOFFSETFROM:+0200
TZOFFSETTO:+0100
TZNAME:CET
END:STANDARD
END:VTIMEZONE
END:VCALENDAR