BEGIN:VCALENDAR
VERSION:2.0
PRODID:-//wp-events-plugin.com//7.2.2.1//EN
TZID:Europe/Madrid
X-WR-TIMEZONE:Europe/Madrid
BEGIN:VEVENT
UID:97@veronoser.com
DTSTART;TZID=Europe/Madrid:20251115T220000
DTEND;TZID=Europe/Madrid:20251115T220000
DTSTAMP:20251111T200727Z
URL:https://veronoser.com/events/visionado-conjunto-frankenstein-2025/
SUMMARY:Visionado Conjunto: Frankenstein (2025)
DESCRIPTION:Ciclo de visionado conjunto de Frankenstein\, de Guillermo del 
 Toro en el chat de cine.
ATTACH;FMTTYPE=image/jpeg:https://veronoser.com/wp-content/uploads/2025/07
 /2.png
END:VEVENT
BEGIN:VTIMEZONE
TZID:Europe/Madrid
X-LIC-LOCATION:Europe/Madrid
BEGIN:STANDARD
DTSTART:20251026T020000
TZOFFSETFROM:+0200
TZOFFSETTO:+0100
TZNAME:CET
END:STANDARD
END:VTIMEZONE
END:VCALENDAR