BEGIN:VCALENDAR
VERSION:2.0
PRODID:-//wp-events-plugin.com//7.2.2.1//EN
TZID:Europe/Madrid
X-WR-TIMEZONE:Europe/Madrid
BEGIN:VEVENT
UID:113@veronoser.com
DTSTART;TZID=Europe/Madrid:20260120T213000
DTEND;TZID=Europe/Madrid:20260120T235900
DTSTAMP:20260117T183445Z
URL:https://veronoser.com/events/visionado-el-quinto-elemento/
SUMMARY:Visionado El Quinto Elemento
DESCRIPTION:🎬✨ SESIÓN DE CINE CONSCIENTE\n\nEsta semana nos adentramo
 s en El quinto elemento\, una película que\, más allá de su estética f
 uturista\, plantea preguntas profundas sobre el amor\, la función del ser
  humano y aquello que realmente puede detener la destrucción.\n\nLa propu
 esta es mirarla con otros ojos\, dejar que resuene y observar qué se muev
 e por dentro. Lo que cada cual vea (y también lo que le incomode) forma p
 arte del proceso.\n\n🗓 Martes 20 de enero\n⏰ 21:30 horas\n🎥 Pelíc
 ula disponible aquí.\n💬 Debate posterior en el chat de telegram\n\n
 🔗 Acceso al canal de cine:\n👉 https://t.me/cineconscienteoficial\n\n
 Eres libre de compartir con quien pueda interesarle. 🤗\n\n
ATTACH;FMTTYPE=image/jpeg:https://veronoser.com/wp-content/uploads/2026/01
 /ChatGPT-Image-17-ene-2026-19_04_35.png
END:VEVENT
BEGIN:VTIMEZONE
TZID:Europe/Madrid
X-LIC-LOCATION:Europe/Madrid
BEGIN:STANDARD
DTSTART:20251026T020000
TZOFFSETFROM:+0200
TZOFFSETTO:+0100
TZNAME:CET
END:STANDARD
END:VTIMEZONE
END:VCALENDAR